BEGIN:VCALENDAR
VERSION:2.0
PRODID:-//Zig Zag Danza - ECPv6.15.18//NONSGML v1.0//EN
CALSCALE:GREGORIAN
METHOD:PUBLISH
X-ORIGINAL-URL:https://zigzagdanza.com
X-WR-CALDESC:Eventos para Zig Zag Danza
REFRESH-INTERVAL;VALUE=DURATION:PT1H
X-Robots-Tag:noindex
X-PUBLISHED-TTL:PT1H
BEGIN:VTIMEZONE
TZID:Europe/Madrid
BEGIN:DAYLIGHT
TZOFFSETFROM:+0100
TZOFFSETTO:+0200
TZNAME:CEST
DTSTART:20240331T010000
END:DAYLIGHT
BEGIN:STANDARD
TZOFFSETFROM:+0200
TZOFFSETTO:+0100
TZNAME:CET
DTSTART:20241027T010000
END:STANDARD
BEGIN:DAYLIGHT
TZOFFSETFROM:+0100
TZOFFSETTO:+0200
TZNAME:CEST
DTSTART:20250330T010000
END:DAYLIGHT
BEGIN:STANDARD
TZOFFSETFROM:+0200
TZOFFSETTO:+0100
TZNAME:CET
DTSTART:20251026T010000
END:STANDARD
BEGIN:DAYLIGHT
TZOFFSETFROM:+0100
TZOFFSETTO:+0200
TZNAME:CEST
DTSTART:20260329T010000
END:DAYLIGHT
BEGIN:STANDARD
TZOFFSETFROM:+0200
TZOFFSETTO:+0100
TZNAME:CET
DTSTART:20261025T010000
END:STANDARD
END:VTIMEZONE
BEGIN:VEVENT
DTSTART;TZID=Europe/Madrid:20251122T113000
DTEND;TZID=Europe/Madrid:20251122T133000
DTSTAMP:20260421T184406
CREATED:20251113T180512Z
LAST-MODIFIED:20251113T180516Z
UID:10000207-1763811000-1763818200@zigzagdanza.com
SUMMARY:Cuerpo\, ritmo y compásPepa Sanz Taller Flamenco
DESCRIPTION:Cuerpo\, ritmo y compásPepa Sanz Taller Flamenco\n\nTaller Flamenco\n\n\n\n22 de noviembre de 11:30 a 13:30 h. \n\n\n\n\n\nTaller Flamenco\n\n\n\n\nINSCRIPCIÓN\n\n\n\n\n\n\n\n\n\n\n\nMás información\n\n\n\nDuración: de 11:30 a 13:30 h.Imparte: Pepa Sanz.Precio: 30 € / Incluye la entrada al espectáculo «Futuro condicional – El Porvenir» el viernes 21 o sábado 22 de noviembre a las 20:30 h.Descuentos: Alumnos/as de Zig Zag Danza\, Espacio Escénico El Huerto\, estudiantes de Teatro\, Música y Danza (previa presentación del carnet de estudiante) y socios del Club Cultura del Principado de Asturias. \n\n\n\nActividad Expandida del XXII Circuito de la Red de Teatros Alternativos \n\n\n\nSobre el taller\n\n\n\nEste taller tiene como propósito acercar y transmitir conocimientos básicos del flamenco a todo tipo de personas de una forma lúdica y dinámica. \n\n\n\nIncluye una breve introducción sobre el origen e historia del flamenco para poder entender y poner en valor la gran riqueza cultural de este lenguaje artístico y su enorme capacidad expresiva. Hacemos un pequeño recorrido por distintos palos flamencos\, explicando su carácter particular\, el contexto y las temáticas principales de sus letras. \n\n\n\nEl foco principal del taller es el aprendizaje de distintos ritmos flamencos a través de ejercicios de palmas\, percusión corporal\, nociones básicas de baile flamenco\, y aprendizaje de letras de cante sencillas. Se realizan propuestas creativas que ejercitan la coordinación\, psicomotricidad\, memoria\, la sensibilidad musical y que propician el disfrute con la música y la danza de forma colectiva. \n\n\n\n– Introducción al flamenco: \n\n\n\nOrigen y breve recorrido histórico Los 3 elementos del flamenco: Cante\, baile\, guitarra.Palos y ritmos flamencos.Elementos tradicionales en el baile flamenco.Instrumentos utilizados en la música flamenca en la actualidad.Fusión y apertura de la música y el baile flamenco con otros estilos. \n\n\n\n– Práctica: \n\n\n\nEjercicios de ritmo y compás.Palmas y percusión corporal.Aprendizaje de letras flamencas.Trabajo corporal.Zapateados\, braceos marcajes y llamadas básicas.Creación de una pequeña coreografía coral. \n\n\n\nPepa Sanz \n\n\n\nPepa Sanz es bailarina\, coreógrafa y docente con una extensa trayectoria en el ámbito de la danza española y el flamenco. Galardonada con la UNESCO Aschberg Bursary for Artist Programme\, ha interpretado coreografías premiadas en el Certamen Coreográfico de Madrid y desarrollado una labor creativa reconocida por su carácter innovador. Desde 2011 codirige Caminantes Danza junto a José Merino\, con quien ha presentado sus obras en Europa\, Asia\, Sudamérica y Oriente Medio. \n\n\n\nEntre sus reconocimientos destacan el Premio a la Mejor Dirección en los Premios INDIFEST 2022 por Bendita Rutina y la Mención Especial de Crítica y Prensa en el Festival Teatri Riflessi 2024 (Italia) por El Porvenir-1. \n\n\n\nCuenta además con una sólida trayectoria docente en danza española y flamenco\, tanto en España como en el extranjero\, con experiencia en la Escuela Profesional de Danza de Castilla y León\, el Conservatorio Profesional Arturo Soria y proyectos pedagógicos vinculados a la escena y la creación contemporánea.
URL:https://zigzagdanza.com/evento/cuerpo-ritmo-y-compaspepa-sanz-taller-flamenco/
CATEGORIES:Taller Flamenco
ATTACH;FMTTYPE=image/jpeg:https://zigzagdanza.com/wp-content/uploads/2025/11/CUERPO-RITMO-Y-COMPAS.webp
END:VEVENT
END:VCALENDAR