BEGIN:VCALENDAR
VERSION:2.0
PRODID:-//Zig Zag Danza - ECPv6.15.18//NONSGML v1.0//EN
CALSCALE:GREGORIAN
METHOD:PUBLISH
X-WR-CALNAME:Zig Zag Danza
X-ORIGINAL-URL:https://zigzagdanza.com
X-WR-CALDESC:Eventos para Zig Zag Danza
REFRESH-INTERVAL;VALUE=DURATION:PT1H
X-Robots-Tag:noindex
X-PUBLISHED-TTL:PT1H
BEGIN:VTIMEZONE
TZID:Europe/Madrid
BEGIN:DAYLIGHT
TZOFFSETFROM:+0100
TZOFFSETTO:+0200
TZNAME:CEST
DTSTART:20220327T010000
END:DAYLIGHT
BEGIN:STANDARD
TZOFFSETFROM:+0200
TZOFFSETTO:+0100
TZNAME:CET
DTSTART:20221030T010000
END:STANDARD
BEGIN:DAYLIGHT
TZOFFSETFROM:+0100
TZOFFSETTO:+0200
TZNAME:CEST
DTSTART:20230326T010000
END:DAYLIGHT
BEGIN:STANDARD
TZOFFSETFROM:+0200
TZOFFSETTO:+0100
TZNAME:CET
DTSTART:20231029T010000
END:STANDARD
BEGIN:DAYLIGHT
TZOFFSETFROM:+0100
TZOFFSETTO:+0200
TZNAME:CEST
DTSTART:20240331T010000
END:DAYLIGHT
BEGIN:STANDARD
TZOFFSETFROM:+0200
TZOFFSETTO:+0100
TZNAME:CET
DTSTART:20241027T010000
END:STANDARD
BEGIN:DAYLIGHT
TZOFFSETFROM:+0100
TZOFFSETTO:+0200
TZNAME:CEST
DTSTART:20250330T010000
END:DAYLIGHT
BEGIN:STANDARD
TZOFFSETFROM:+0200
TZOFFSETTO:+0100
TZNAME:CET
DTSTART:20251026T010000
END:STANDARD
BEGIN:DAYLIGHT
TZOFFSETFROM:+0100
TZOFFSETTO:+0200
TZNAME:CEST
DTSTART:20260329T010000
END:DAYLIGHT
BEGIN:STANDARD
TZOFFSETFROM:+0200
TZOFFSETTO:+0100
TZNAME:CET
DTSTART:20261025T010000
END:STANDARD
END:VTIMEZONE
BEGIN:VEVENT
DTSTART;TZID=Europe/Madrid:20250531T110000
DTEND;TZID=Europe/Madrid:20250531T130000
DTSTAMP:20260421T122314
CREATED:20250521T211406Z
LAST-MODIFIED:20250522T194905Z
UID:10000173-1748689200-1748696400@zigzagdanza.com
SUMMARY:Moviendo estereotipos a través de la danzaChristine Cloux Taller_Lab
DESCRIPTION:Moviendo estereotipos a través de la danzaChristine Cloux Taller_Lab\n\nTaller_Lab\n\n\n\n31 de mayo de 11:00 a 13:00 h. \n\n\n\n\n\nTaller de Danza\n\n\n\n\nINSCRIPCIÓN\n\n\n\n\n\n\n\n\n\n\n\nMás información\n\n\n\nCiclo: BROTES_Lab 2025.Duración: de 11:00 a 13:00 h.Imparte: Christine Cloux.Precio: 30 € / Incluye la entrada al espectáculo «Corps Seul» el viernes 30 o sábado 31 de mayo a las 20:30 h.Descuentos: Alumnos/as de Zig Zag Danza\, Espacio Escénico El Huerto\, estudiantes de Teatro\, Música y Danza (previa presentación del carnet de estudiante) y socios del Club Cultura del Principado de Asturias. \n\n\n\nSobre el taller\n\n\n\nEl objetivo de este taller es que cada participante pueda vivenciar y entender a través de la danza contemporánea que el movimiento no entiende de límites\, fronteras ni estereotipos relacionados con la edad. Está dirigido a personas sin límite de edad\, con o sin experiencia previa en el ámbito del movimiento. \n\n\n\nEn el taller se realizará una práctica para interactuar bailando a partir de diferentes pautas con el objetivo de disfrutar de una vivencia de danza a través de gestos y movimientos\, rompiendo con los estereotipos. \n\n\n\nChristine Cloux \n\n\n\nBailarina profesional desde los 18 años. Su actividad en el ámbito de la danza se acerca ya a cuarenta años a lo largo de los cuales ha sido intérprete para diferentes compañías y coreógrafos\, docente y coreógrafa. \n\n\n\nSus proyectos personales como creadora son una constante desde hace ya 25 años\, desarrollados con regularidad pero siempre en procesos largos.
URL:https://zigzagdanza.com/evento/moviendo-estereotipos-a-traves-de-la-danzachristine-cloux-taller_lab/
CATEGORIES:Taller_Lab
ATTACH;FMTTYPE=image/jpeg:https://zigzagdanza.com/wp-content/uploads/2025/05/Christine_Cloux_evento.webp
END:VEVENT
BEGIN:VEVENT
DTSTART;TZID=Europe/Madrid:20250531T110000
DTEND;TZID=Europe/Madrid:20250531T130000
DTSTAMP:20260421T122314
CREATED:20250521T201040Z
LAST-MODIFIED:20250521T211652Z
UID:10000172-1748689200-1748696400@zigzagdanza.com
SUMMARY:AventarOlimpia Oyonarte Taller_Lab
DESCRIPTION:Moviendo estereotipos a través de la danzaChristine Cloux Taller_Lab\n\nTaller_Lab\n\n\n\n31 de mayo de 11:00 a 13:00 h. \n\n\n\n\n\nTaller de Danza\n\n\n\n\nINSCRIPCIÓN\n\n\n\n\n\n\n\n\n\n\n\nMás información\n\n\n\nCiclo: BROTES_Lab 2025.Duración: de 11:00 a 13:00 h.Precio: 30 € / Incluye la entrada al programa doble «Raíles» y «Tiempo fuera» el domingo 1 de junio a las 20:30 h.Descuentos: Alumnos/as de Zig Zag Danza\, Espacio Escénico El Huerto\, estudiantes de Teatro\, Música y Danza (previa presentación del carnet de estudiante) y socios del Club Cultura del Principado de Asturias. \n\n\n\nSobre el taller\n\n\n\nHorario: 11:00 a 13:00 h.Imparte: Olimpia Oyonarte. \n\n\n\nEchamos al viento lo que nos surge de dentro\, para así recoger\, con los abanicos\, lo que nos une e identifica: el grano que\, libre de paja\, conforma un círculo mágico y fructífero. \n\n\n\nEste taller permite una exploración del movimiento desde un lenguaje flamenco y contemporáneo\, a la vez que propone una composición desde lo individual y lo colectivo. Taller abierto a cualquier persona\, con o sin experiencia en danza. \n\n\n\nEs necesario traer un abanico para la realización del taller. \n\n\n\nOlimpia Oyonarte \n\n\n\nEs pedagoga de la danza\, bailarina y coreógrafa. Titulada Superior por el Conservatorio Superior de danza de Málaga\, ha formado parte de diferentes compañías de danza. Como creadora\, sus dos primeras piezas “Mujeres Invisibles” y “Raíles”\, representadas en diversos festivales\, unen la danza y el patrimonio cultural de Gijón. Sus creaciones  fusionan el lenguaje flamenco y el contemporáneo\, integrando otras disciplinas artísticas como la música clásica\, el canto y el texto literario.
URL:https://zigzagdanza.com/evento/aventarolimpia-oyonarte-taller_lab/
CATEGORIES:Taller_Lab
ATTACH;FMTTYPE=image/jpeg:https://zigzagdanza.com/wp-content/uploads/2025/05/Olimpia_Evento.webp
END:VEVENT
BEGIN:VEVENT
DTSTART;TZID=Europe/Madrid:20250208T103000
DTEND;TZID=Europe/Madrid:20250208T133000
DTSTAMP:20260421T122314
CREATED:20250130T200701Z
LAST-MODIFIED:20250130T201039Z
UID:10000165-1739010600-1739021400@zigzagdanza.com
SUMMARY:Dramaturgia en el movimiento. Taller de teatro físicoDue Teatre Taller
DESCRIPTION:Moviendo estereotipos a través de la danzaChristine Cloux Taller_Lab\n\nTaller_Lab\n\n\n\n8 de febrero de 10:30 a 13:30 h. \n\n\n\n\n\nTaller de Danza\n\n\n\n\nCOMPRAR ENTRADAS\n\n\n\n\n\n\n\n\n\n\n\nMás información\n\n\n\nImparte: Andrea Eraso y Lisa Reventós.Duración: de 10:30 a 13:30 h.Precio: 35 € / Incluye la entrada al espectáculo «La resta de les coses» \n\n\n\nSobre el taller\n\n\n\nSe puede elegir asistir a cualquiera de las dos funciones programadas: viernes 7 o sábado 8 a las 20. 30h. \n\n\n\nAndrea Eraso y Lisa Reventós integrantes de la compañía de teatro físico Dueteatre entienden que todo teatro es físico\, desde su formación buscan investigar un lenguaje propio en el que el cuerpo actúa bailando y baila actuando\, como medio expresivo y de diálogo con el mundo. \n\n\n\nEste taller se desarrolla en el marco de un lenguaje escénico\, que mantiene en diálogo constante códigos tanto del mundo salvaje como del civilizado\, que incluyen el teatro y la danza. \n\n\n\nA través del trabajo de las acciones\, el texto\, las formas y los elementos físicos. \n\n\n\nTratamos de construir intérpretes que puedan ser autónomos en relación a sus decisiones escénicas\, y puedan tener una percepción de aquello que hacen y auto dirigirse tanto a través de las herramientas aprendidas\, como de su propia materia prima: el peso\, el espacio\, el tono\, la emoción\, el ritmo\, la voz…
URL:https://zigzagdanza.com/evento/dramaturgia-en-el-movimiento-taller-de-teatro-fisicodue-teatre-taller/
CATEGORIES:Taller_Lab
ATTACH;FMTTYPE=image/jpeg:https://zigzagdanza.com/wp-content/uploads/2025/01/Taller_evento.webp
END:VEVENT
BEGIN:VEVENT
DTSTART;TZID=Europe/Madrid:20241116T103000
DTEND;TZID=Europe/Madrid:20241116T133000
DTSTAMP:20260421T122314
CREATED:20241105T213022Z
LAST-MODIFIED:20241111T182650Z
UID:10000139-1731753000-1731763800@zigzagdanza.com
SUMMARY:Taller de Danza Ritmo/Cuerpo/Contracción conCía. Silvia Batet Taller
DESCRIPTION:Moviendo estereotipos a través de la danzaChristine Cloux Taller_Lab\n\nTaller_Lab\n\n\n\n16 de noviembre de 10:30 a 13:30 h. \n\n\n\n\n\nTaller de Danza\n\n\n\n\nCOMPRAR ENTRADAS\n\n\n\n\n\n\n\n\n\n\n\nMás información\n\n\n\nImparte: Silvia Batet y Anna Serra.Duración: de 10:30 a 13:30 h.Precio: 30 € / Incluye entrada al espectáculo «Sacrée» \n\n\n\nActividad Expandida del XXII Circuito de la Red de Teatros Alternativos \n\n\n\nSobre el taller\n\n\n\nLos ejes de la propuesta formativa vinculada al espectáculo Sacrée tienen que ver con el material de movimiento desarrollado durante el proceso de creación. En este proceso hemos trabajado principalmente sobre dos premisas: la geometría del cuerpo sobre el linóleo reflectante y la contracción muscular derivada de la técnica del popping\, proveniente de las danzas urbanas. \n\n\n\nEn este taller nos basaremos en la segunda premisa\, entrenando la disociación muscular isométrica de las diferentes partes del cuerpo (muñeca\, brazo\, pecho\, cabeza\, abdomen) en la construcción de ritmos a través de la contracción. \n\n\n\nEnseñaremos y practicaremos algunas secuencias rítmicas y coreográficas del trabajo\, y posteriormente abriremos espacios de investigación donde los participantes puedan encontrar sus propios movimientos en base a diferentes ritmos. \n\n\n\nEste taller propone dar a las personas interesadas en el movimiento nuevas herramientas y formas de moverse que no suelen trabajarse en clases de danza contemporánea\, como forma de enriquecer el vocabulario de movimiento y el control del cuerpo a través de ejercicios derivados de la danza urbana. \n\n\n\nEl taller será impartido por la coreógrafa Silvia Batet y la bailarina Anna Serra.
URL:https://zigzagdanza.com/evento/taller-de-danza-ritmo-cuerpo-contraccion-con-cia-silvia-batetcia-silvia-batet-taller/
CATEGORIES:Taller_Lab
ATTACH;FMTTYPE=image/jpeg:https://zigzagdanza.com/wp-content/uploads/2024/11/Evento-_-Cia-Silvia-Batet-jpg.webp
END:VEVENT
BEGIN:VEVENT
DTSTART;TZID=Europe/Madrid:20241110T110000
DTEND;TZID=Europe/Madrid:20241110T120000
DTSTAMP:20260421T122314
CREATED:20241031T194530Z
LAST-MODIFIED:20241104T200934Z
UID:10000138-1731236400-1731240000@zigzagdanza.com
SUMMARY:Taller de creación de marionetasDe Paper Taller
DESCRIPTION:Moviendo estereotipos a través de la danzaChristine Cloux Taller_Lab\n\nTaller_Lab\n\n\n\n10 de noviembre de 11:00 a 12:00 h. \n\n\n\n\n\nTaller de Danza\n\n\n\n\nCOMPRAR ENTRADAS\n\n\n\n\n\n\n\n\n\n\n\nMás información\n\n\n\nImparte: Cía De Paper.Duración: de 11:00 a 12:00 h.Precio: 20 € (Adulto + niño) / Incluye entrada al espectáculo «Una manzana\, un manzano» \n\n\n\nActividad Expandida del XXII Circuito de la Red de Teatros Alternativos \n\n\n\nSobre el taller\n\n\n\nUn Títere libreta de un pajarito muy entrañable. \n\n\n\nEs una actividad pensada para niños entre 4 y 9 años\, pero requerirá la ayuda de un adulto. \n\n\n\nEl taller consiste en la construcción de una libreta-títere que es un carbonero (herrerillo). \n\n\n\nRealización de la actividad: \n\n\n\nLos participantes del taller recibirán 6 hojas de 8\,5 x 7 cm impresas por delante y por detrás. Estas 6 hojas\, una vez encuadernadas\, serán una libreta-títere de un pájaro con un ala articulada. Aparte también contarán una pequeña historia: como el carbonero hizo el nido\, tuvo polluelos y los alimentó. \n\n\n\nLos participantes en el taller tendrán que pintar\, recortar y (con nuestra ayuda)\, encuadernar la libreta-títere.
URL:https://zigzagdanza.com/evento/taller-de-creacion-de-marionetasde-paper-taller/
CATEGORIES:Taller_Lab
ATTACH;FMTTYPE=image/jpeg:https://zigzagdanza.com/wp-content/uploads/2024/10/Taller_marionetas-jpg.webp
END:VEVENT
BEGIN:VEVENT
DTSTART;TZID=Europe/Madrid:20240601T110000
DTEND;TZID=Europe/Madrid:20240601T130000
DTSTAMP:20260421T122314
CREATED:20240515T120408Z
LAST-MODIFIED:20240515T120545Z
UID:10000117-1717239600-1717246800@zigzagdanza.com
SUMMARY:Cuerpo sensitivo / Cuerpo creativo / Cuerpo habitadoCeleste Ayus Taller_Lab
DESCRIPTION:Moviendo estereotipos a través de la danzaChristine Cloux Taller_Lab\n\nTaller_Lab\n\n\n\n1 de junio de 11:00 a 13:00 h. \n\n\n\n\n\nTaller de Danza\n\n\n\n\nCOMPRAR ENTRADAS\n\n\n\n\n\n\n\n\n\n\n\nMás información\n\n\n\nCiclo: BROTES_Lab2024.Duración: de 11:00 a 13:00 h.Precio: 40 € / Incluye entrada al programa doble «Migrant» y «El juglar de los arcanos» el domingo 2 de junio a las 20:30 h.Descuentos: Alumnos/as de Zig Zag Danza\, Espacio Escénico El Huerto\, estudiantes de Teatro\, Música y Danza (previa presentación del carnet de estudiante) y socios del Club Cultura del Principado de Asturias. \n\n\n\nSobre el taller\n\n\n\nEn este taller trabajaremos como estar en un cuerpo más habitado\, presente y dispuesto para el acto escénico a través de herramientas vinculadas con un lenguaje dancístico. Tras un entrenamiento físico y de consciencia corporal\, abordaremos el cuerpo desde una mirada holística\, poniendo el foco en el placer de jugar\, la escucha sensitiva\, la mirada abierta\, el sonido\, el ritmo y las emociones. Finalizaremos con una pequeña improvisación guiada para poner en práctica los elementos trabajados a lo largo del taller. \n\n\n\nCeleste Ayus \n\n\n\nCreadora e intérprete de danza contemporánea\, nacida en Buenos Aires y criada en GRAN CANARIA\, se forma en espacios como el CAT (Centro Andaluz de Danza y Teatro)\, AREA\, La Caldera\, Marameo-Berlín o Teatro Victoria\, Con formación en diversas disciplinas del conocimiento del cuerpo y de las artes escénicas\, desarrolla su trabajo artístico entre las islas Canarias y Barcelona. Co-directora e intérprete del Colectivo las Twins y Cía El Jablero.
URL:https://zigzagdanza.com/evento/cuerpo-sensitivo-cuerpo-creativo-cuerpo-habitadoceleste-ayus-taller_lab/
CATEGORIES:Taller_Lab
ATTACH;FMTTYPE=image/jpeg:https://zigzagdanza.com/wp-content/uploads/2024/05/Taller_Celeste2-jpg.webp
END:VEVENT
BEGIN:VEVENT
DTSTART;TZID=Europe/Madrid:20240525T103000
DTEND;TZID=Europe/Madrid:20240525T133000
DTSTAMP:20260421T122314
CREATED:20240514T212421Z
LAST-MODIFIED:20240514T212544Z
UID:10000116-1716633000-1716643800@zigzagdanza.com
SUMMARY:El camino de los huesosAndrea Catania Taller_Lab
DESCRIPTION:Moviendo estereotipos a través de la danzaChristine Cloux Taller_Lab\n\nTaller_Lab\n\n\n\n25 de mayo de 10:30 a 13:30 h. \n\n\n\n\n\nTaller de Danza\n\n\n\n\nCOMPRAR ENTRADAS\n\n\n\n\n\n\n\n\n\n\n\nMás información\n\n\n\nCiclo: BROTES_Lab2024.Duración: de 10:30 a 13:30 h.Precio: 40 € / Incluye entrada al programa doble «Buitres» y «Xenérica» el domingo 26 a las 20:30 h.Descuentos: Alumnos/as de Zig Zag Danza\, Espacio Escénico El Huerto\, estudiantes de Teatro\, Música y Danza (previa presentación del carnet de estudiante) y socios del Club Cultura del Principado de Asturias. \n\n\n\nSobre el taller\n\n\n\n«El camino de los huesos» es el trabajo minucioso de descubrimiento y desarrollo de los impulsos necesarios (y solamente los necesarios) que mueven el esqueleto\, teniendo como consecuencia el desplazamiento de la masa muscular en el espacio. Este enfoque le ha ayudado a Catania poder crear un lenguaje adaptable a todo tipo de cuerpo y niveles de experiencia. \n\n\n\nDespués de graduarse en el 2003 en la Universidad Folkwang Hochscule en Essen\, Alemania\, y obtener la Licenciatura en Danza de la Universidad Nacional de Costa Rica\, la búsqueda de Catania durante los últimos 10 años ha sido de combinar diferentes técnicas como Yoga\, Release y Teatro Físico; dicha investigación la ha llevado a desarrollar su propia técnica y lenguaje escénico único y a impartir numerosos talleres a nivel nacional e internacional.
URL:https://zigzagdanza.com/evento/el-camino-de-los-huesosandrea-catania-taller_lab/
CATEGORIES:Taller_Lab
ATTACH;FMTTYPE=image/jpeg:https://zigzagdanza.com/wp-content/uploads/2024/05/Taller_Andrea-jpg.webp
END:VEVENT
BEGIN:VEVENT
DTSTART;TZID=Europe/Madrid:20230603T110000
DTEND;TZID=Europe/Madrid:20230603T110000
DTSTAMP:20260421T122314
CREATED:20230516T175131Z
LAST-MODIFIED:20230530T125153Z
UID:10000046-1685790000-1685790000@zigzagdanza.com
SUMMARY:EscuchatorioAbel Rojo Taller_Lab
DESCRIPTION:Moviendo estereotipos a través de la danzaChristine Cloux Taller_Lab\n\nTaller_Lab\n\n\n\n3 de junio de 11:00 a 13:00 h. \n\n\n\n\n\nTaller de Danza\n\n\n\n\nCOMPRAR ENTRADAS\n\n\n\n\n\n\n\n\n\n\n\nMás información\n\n\n\nCiclo: BROTES_Lab2023.Duración: de 11:00 a 13:00 h.Precio: 30 € / Incluye entrada al programa doble «El piso a cuestas» y «A través de mis ojos» el sábado 3 a las 20:30 h.Descuentos: Alumnos/as de Zig Zag Danza\, Espacio Escénico El Huerto\, estudiantes de Teatro\, Música y Danza (previa presentación del carnet de estudiante) y socios del Club Cultura del Principado de Asturias. \n\n\n\nSobre el taller\n\n\n\n«Escuchatorio» será un taller para cuerpos expandidos. Esta manera de nombrar\, marca la intuición que nos acompañará en cada fase del encuentro; en cada fase de la escucha. Partiremos de la práctica consciente de activar el cuerpo como un estetoscopio que privilegia la respiración\, el placer\, la sugestión\, los porcientos de energía\, las texturas\, los latidos del corazón\, la vulnerabilidad propia y de otrxs. Nos permitiremos desplazarnos a ese lugar de pre-expresividad y subjetividad de cualquier proceso creativo. El «Escuchatorio» estará dirigido a todas las corporalidades\, a todxs lxs que tengan la intención de compartir y afectarse en este cruce\, en este desplazamiento de los sentidos.
URL:https://zigzagdanza.com/evento/escuchatorioabel-rojo-taller_lab/
CATEGORIES:Taller_Lab
ATTACH;FMTTYPE=image/jpeg:https://zigzagdanza.com/wp-content/uploads/2023/05/Escuchatorio_f.jpg
END:VEVENT
BEGIN:VEVENT
DTSTART;TZID=Europe/Madrid:20230527T110000
DTEND;TZID=Europe/Madrid:20230527T110000
DTSTAMP:20260421T122314
CREATED:20230516T163351Z
LAST-MODIFIED:20230516T174714Z
UID:10000045-1685185200-1685185200@zigzagdanza.com
SUMMARY:El cuerpo escondidoIzar Gayo Taller_Lab
DESCRIPTION:Moviendo estereotipos a través de la danzaChristine Cloux Taller_Lab\n\nTaller_Lab\n\n\n\n27 de mayo de 11:00 a 13:00 h. \n\n\n\n\n\nTaller de Danza\n\n\n\n\nCOMPRAR ENTRADAS\n\n\n\n\n\n\n\n\n\n\n\nMás información\n\n\n\nCiclo: BROTES_Lab2023.Duración: de 11:00 a 13:00 h.Precio: 30 € / Incluye entrada al espectáculo «Lecciones de una hoja» el viernes 26 a las 20:30 h.Descuentos: Alumnos/as de Zig Zag Danza\, Espacio Escénico El Huerto\, estudiantes de Teatro\, Música y Danza (previa presentación del carnet de estudiante) y socios del Club Cultura del Principado de Asturias. \n\n\n\nSobre el taller\n\n\n\nEntendiendo fuente como impulso primario para la creación y la investigación\, y entendiendo oro como aquel material único e inconsciente que permanece guardado y escondido; vamos a plantear la práctica desde diferentes puntos de partida para llegar a la fuente\, única y personal\, el cuerpo escondido.Utilizaremos prácticas de investigación a través de la improvisación\, utilizando la acción\, la palabra y la imagen para descubrir nuevos caminos de expresión.Profundizaremos en los campos de la imaginación\, utilizaremos el transito y la forma. La recepción \, el gesto\, la impronta y la repercusión de la acción.Los ejes principales de la práctica son: Impulso. ¿Qué me mueve? ¿Qué me empuja? ¿Por qué? Observación.
URL:https://zigzagdanza.com/evento/el-cuerpo-desconocidoizar-gayo-taller_lab/
CATEGORIES:Taller_Lab
ATTACH;FMTTYPE=image/jpeg:https://zigzagdanza.com/wp-content/uploads/2023/05/El-cuerpo-escondido.jpg
END:VEVENT
END:VCALENDAR